BEGIN:VCALENDAR
VERSION:2.0
PRODID:-//Pembrokeshire Community Halls - ECPv6.15.20//NONSGML v1.0//EN
CALSCALE:GREGORIAN
METHOD:PUBLISH
X-ORIGINAL-URL:http://pembrokeshirehalls.org.uk
X-WR-CALDESC:Events for Pembrokeshire Community Halls
REFRESH-INTERVAL;VALUE=DURATION:PT1H
X-Robots-Tag:noindex
X-PUBLISHED-TTL:PT1H
BEGIN:VTIMEZONE
TZID:Europe/London
BEGIN:DAYLIGHT
TZOFFSETFROM:+0000
TZOFFSETTO:+0100
TZNAME:BST
DTSTART:20210328T010000
END:DAYLIGHT
BEGIN:STANDARD
TZOFFSETFROM:+0100
TZOFFSETTO:+0000
TZNAME:GMT
DTSTART:20211031T010000
END:STANDARD
BEGIN:DAYLIGHT
TZOFFSETFROM:+0000
TZOFFSETTO:+0100
TZNAME:BST
DTSTART:20220327T010000
END:DAYLIGHT
BEGIN:STANDARD
TZOFFSETFROM:+0100
TZOFFSETTO:+0000
TZNAME:GMT
DTSTART:20221030T010000
END:STANDARD
BEGIN:DAYLIGHT
TZOFFSETFROM:+0000
TZOFFSETTO:+0100
TZNAME:BST
DTSTART:20230326T010000
END:DAYLIGHT
BEGIN:STANDARD
TZOFFSETFROM:+0100
TZOFFSETTO:+0000
TZNAME:GMT
DTSTART:20231029T010000
END:STANDARD
END:VTIMEZONE
BEGIN:VEVENT
DTSTART;TZID=Europe/London:20220608T170000
DTEND;TZID=Europe/London:20220608T210000
DTSTAMP:20260421T124755
CREATED:20181024T194238Z
LAST-MODIFIED:20181024T194238Z
UID:7990-1654707600-1654722000@pembrokeshirehalls.org.uk
SUMMARY:Muay Thai kickboxing
DESCRIPTION:
URL:http://pembrokeshirehalls.org.uk/event/muay-thai-kickboxing-2-2022-06-08/
END:VEVENT
BEGIN:VEVENT
DTSTART;TZID=Europe/London:20220608T100000
DTEND;TZID=Europe/London:20220608T120000
DTSTAMP:20260421T124755
CREATED:20180802T085125Z
LAST-MODIFIED:20180802T085125Z
UID:7991-1654682400-1654689600@pembrokeshirehalls.org.uk
SUMMARY:Penally Craft Group
DESCRIPTION:
URL:http://pembrokeshirehalls.org.uk/event/penally-craft-group-2022-06-08/
ORGANIZER;CN="Judy Williams":MAILTO:judyandmick@btinternet.com
END:VEVENT
BEGIN:VEVENT
DTSTART;TZID=Europe/London:20220607T173000
DTEND;TZID=Europe/London:20220607T193000
DTSTAMP:20260421T124755
CREATED:20180723T091809Z
LAST-MODIFIED:20180723T091809Z
UID:7988-1654623000-1654630200@pembrokeshirehalls.org.uk
SUMMARY:Come Weigh with Me
DESCRIPTION:
URL:http://pembrokeshirehalls.org.uk/event/come-weigh-with-me-2022-06-07/
LOCATION:Burton Jubilee Hall\, Houghton\, Milford Haven\, Pembrokeshire\, SA73 1NB\, United Kingdom
END:VEVENT
BEGIN:VEVENT
DTSTART;TZID=Europe/London:20220607T133000
DTEND;TZID=Europe/London:20220607T143000
DTSTAMP:20260421T124755
CREATED:20190430T143541Z
LAST-MODIFIED:20190430T143541Z
UID:7989-1654608600-1654612200@pembrokeshirehalls.org.uk
SUMMARY:Pilates in Burton
DESCRIPTION:
URL:http://pembrokeshirehalls.org.uk/event/pilates-in-burton-2022-06-07/
LOCATION:Burton Jubilee Hall\, Houghton\, Milford Haven\, Pembrokeshire\, SA73 1NB\, United Kingdom
END:VEVENT
BEGIN:VEVENT
DTSTART;TZID=Europe/London:20220602T170000
DTEND;TZID=Europe/London:20220602T183000
DTSTAMP:20260421T124755
CREATED:20180725T133732Z
LAST-MODIFIED:20180725T133732Z
UID:7981-1654189200-1654194600@pembrokeshirehalls.org.uk
SUMMARY:Brownies
DESCRIPTION:
URL:http://pembrokeshirehalls.org.uk/event/brownies-2022-06-02/
LOCATION:Lamphey Village Hall
END:VEVENT
BEGIN:VEVENT
DTSTART;TZID=Europe/London:20220601T170000
DTEND;TZID=Europe/London:20220601T210000
DTSTAMP:20260421T124755
CREATED:20181024T194238Z
LAST-MODIFIED:20181024T194238Z
UID:7979-1654102800-1654117200@pembrokeshirehalls.org.uk
SUMMARY:Muay Thai kickboxing
DESCRIPTION:
URL:http://pembrokeshirehalls.org.uk/event/muay-thai-kickboxing-2-2022-06-01/
END:VEVENT
BEGIN:VEVENT
DTSTART;TZID=Europe/London:20220601T100000
DTEND;TZID=Europe/London:20220601T120000
DTSTAMP:20260421T124755
CREATED:20180802T085125Z
LAST-MODIFIED:20180802T085125Z
UID:7980-1654077600-1654084800@pembrokeshirehalls.org.uk
SUMMARY:Penally Craft Group
DESCRIPTION:
URL:http://pembrokeshirehalls.org.uk/event/penally-craft-group-2022-06-01/
ORGANIZER;CN="Judy Williams":MAILTO:judyandmick@btinternet.com
END:VEVENT
BEGIN:VEVENT
DTSTART;TZID=Europe/London:20220531T173000
DTEND;TZID=Europe/London:20220531T193000
DTSTAMP:20260421T124755
CREATED:20180723T091809Z
LAST-MODIFIED:20180723T091809Z
UID:7977-1654018200-1654025400@pembrokeshirehalls.org.uk
SUMMARY:Come Weigh with Me
DESCRIPTION:
URL:http://pembrokeshirehalls.org.uk/event/come-weigh-with-me-2022-05-31/
LOCATION:Burton Jubilee Hall\, Houghton\, Milford Haven\, Pembrokeshire\, SA73 1NB\, United Kingdom
END:VEVENT
BEGIN:VEVENT
DTSTART;TZID=Europe/London:20220531T133000
DTEND;TZID=Europe/London:20220531T143000
DTSTAMP:20260421T124755
CREATED:20190430T143541Z
LAST-MODIFIED:20190430T143541Z
UID:7978-1654003800-1654007400@pembrokeshirehalls.org.uk
SUMMARY:Pilates in Burton
DESCRIPTION:
URL:http://pembrokeshirehalls.org.uk/event/pilates-in-burton-2022-05-31/
LOCATION:Burton Jubilee Hall\, Houghton\, Milford Haven\, Pembrokeshire\, SA73 1NB\, United Kingdom
END:VEVENT
BEGIN:VEVENT
DTSTART;TZID=Europe/London:20220526T170000
DTEND;TZID=Europe/London:20220526T183000
DTSTAMP:20260421T124755
CREATED:20180725T133732Z
LAST-MODIFIED:20180725T133732Z
UID:7976-1653584400-1653589800@pembrokeshirehalls.org.uk
SUMMARY:Brownies
DESCRIPTION:
URL:http://pembrokeshirehalls.org.uk/event/brownies-2022-05-26/
LOCATION:Lamphey Village Hall
END:VEVENT
BEGIN:VEVENT
DTSTART;TZID=Europe/London:20220525T170000
DTEND;TZID=Europe/London:20220525T210000
DTSTAMP:20260421T124755
CREATED:20181024T194238Z
LAST-MODIFIED:20181024T194238Z
UID:7974-1653498000-1653512400@pembrokeshirehalls.org.uk
SUMMARY:Muay Thai kickboxing
DESCRIPTION:
URL:http://pembrokeshirehalls.org.uk/event/muay-thai-kickboxing-2-2022-05-25/
END:VEVENT
BEGIN:VEVENT
DTSTART;TZID=Europe/London:20220525T100000
DTEND;TZID=Europe/London:20220525T120000
DTSTAMP:20260421T124755
CREATED:20180802T085125Z
LAST-MODIFIED:20180802T085125Z
UID:7975-1653472800-1653480000@pembrokeshirehalls.org.uk
SUMMARY:Penally Craft Group
DESCRIPTION:
URL:http://pembrokeshirehalls.org.uk/event/penally-craft-group-2022-05-25/
ORGANIZER;CN="Judy Williams":MAILTO:judyandmick@btinternet.com
END:VEVENT
BEGIN:VEVENT
DTSTART;TZID=Europe/London:20220524T173000
DTEND;TZID=Europe/London:20220524T193000
DTSTAMP:20260421T124755
CREATED:20180723T091809Z
LAST-MODIFIED:20180723T091809Z
UID:7972-1653413400-1653420600@pembrokeshirehalls.org.uk
SUMMARY:Come Weigh with Me
DESCRIPTION:
URL:http://pembrokeshirehalls.org.uk/event/come-weigh-with-me-2022-05-24/
LOCATION:Burton Jubilee Hall\, Houghton\, Milford Haven\, Pembrokeshire\, SA73 1NB\, United Kingdom
END:VEVENT
BEGIN:VEVENT
DTSTART;TZID=Europe/London:20220524T133000
DTEND;TZID=Europe/London:20220524T143000
DTSTAMP:20260421T124755
CREATED:20190430T143541Z
LAST-MODIFIED:20190430T143541Z
UID:7973-1653399000-1653402600@pembrokeshirehalls.org.uk
SUMMARY:Pilates in Burton
DESCRIPTION:
URL:http://pembrokeshirehalls.org.uk/event/pilates-in-burton-2022-05-24/
LOCATION:Burton Jubilee Hall\, Houghton\, Milford Haven\, Pembrokeshire\, SA73 1NB\, United Kingdom
END:VEVENT
BEGIN:VEVENT
DTSTART;TZID=Europe/London:20220519T170000
DTEND;TZID=Europe/London:20220519T183000
DTSTAMP:20260421T124755
CREATED:20180725T133732Z
LAST-MODIFIED:20180725T133732Z
UID:7971-1652979600-1652985000@pembrokeshirehalls.org.uk
SUMMARY:Brownies
DESCRIPTION:
URL:http://pembrokeshirehalls.org.uk/event/brownies-2022-05-19/
LOCATION:Lamphey Village Hall
END:VEVENT
BEGIN:VEVENT
DTSTART;TZID=Europe/London:20220518T170000
DTEND;TZID=Europe/London:20220518T210000
DTSTAMP:20260421T124755
CREATED:20181024T194238Z
LAST-MODIFIED:20181024T194238Z
UID:7969-1652893200-1652907600@pembrokeshirehalls.org.uk
SUMMARY:Muay Thai kickboxing
DESCRIPTION:
URL:http://pembrokeshirehalls.org.uk/event/muay-thai-kickboxing-2-2022-05-18/
END:VEVENT
BEGIN:VEVENT
DTSTART;TZID=Europe/London:20220518T100000
DTEND;TZID=Europe/London:20220518T120000
DTSTAMP:20260421T124755
CREATED:20180802T085125Z
LAST-MODIFIED:20180802T085125Z
UID:7970-1652868000-1652875200@pembrokeshirehalls.org.uk
SUMMARY:Penally Craft Group
DESCRIPTION:
URL:http://pembrokeshirehalls.org.uk/event/penally-craft-group-2022-05-18/
ORGANIZER;CN="Judy Williams":MAILTO:judyandmick@btinternet.com
END:VEVENT
BEGIN:VEVENT
DTSTART;TZID=Europe/London:20220517T173000
DTEND;TZID=Europe/London:20220517T193000
DTSTAMP:20260421T124755
CREATED:20180723T091809Z
LAST-MODIFIED:20180723T091809Z
UID:7967-1652808600-1652815800@pembrokeshirehalls.org.uk
SUMMARY:Come Weigh with Me
DESCRIPTION:
URL:http://pembrokeshirehalls.org.uk/event/come-weigh-with-me-2022-05-17/
LOCATION:Burton Jubilee Hall\, Houghton\, Milford Haven\, Pembrokeshire\, SA73 1NB\, United Kingdom
END:VEVENT
BEGIN:VEVENT
DTSTART;TZID=Europe/London:20220517T133000
DTEND;TZID=Europe/London:20220517T143000
DTSTAMP:20260421T124755
CREATED:20190430T143541Z
LAST-MODIFIED:20190430T143541Z
UID:7968-1652794200-1652797800@pembrokeshirehalls.org.uk
SUMMARY:Pilates in Burton
DESCRIPTION:
URL:http://pembrokeshirehalls.org.uk/event/pilates-in-burton-2022-05-17/
LOCATION:Burton Jubilee Hall\, Houghton\, Milford Haven\, Pembrokeshire\, SA73 1NB\, United Kingdom
END:VEVENT
BEGIN:VEVENT
DTSTART;TZID=Europe/London:20220512T170000
DTEND;TZID=Europe/London:20220512T183000
DTSTAMP:20260421T124755
CREATED:20180725T133732Z
LAST-MODIFIED:20180725T133732Z
UID:7966-1652374800-1652380200@pembrokeshirehalls.org.uk
SUMMARY:Brownies
DESCRIPTION:
URL:http://pembrokeshirehalls.org.uk/event/brownies-2022-05-12/
LOCATION:Lamphey Village Hall
END:VEVENT
BEGIN:VEVENT
DTSTART;TZID=Europe/London:20220511T170000
DTEND;TZID=Europe/London:20220511T210000
DTSTAMP:20260421T124755
CREATED:20181024T194238Z
LAST-MODIFIED:20181024T194238Z
UID:7964-1652288400-1652302800@pembrokeshirehalls.org.uk
SUMMARY:Muay Thai kickboxing
DESCRIPTION:
URL:http://pembrokeshirehalls.org.uk/event/muay-thai-kickboxing-2-2022-05-11/
END:VEVENT
BEGIN:VEVENT
DTSTART;TZID=Europe/London:20220511T100000
DTEND;TZID=Europe/London:20220511T120000
DTSTAMP:20260421T124755
CREATED:20180802T085125Z
LAST-MODIFIED:20180802T085125Z
UID:7965-1652263200-1652270400@pembrokeshirehalls.org.uk
SUMMARY:Penally Craft Group
DESCRIPTION:
URL:http://pembrokeshirehalls.org.uk/event/penally-craft-group-2022-05-11/
ORGANIZER;CN="Judy Williams":MAILTO:judyandmick@btinternet.com
END:VEVENT
BEGIN:VEVENT
DTSTART;TZID=Europe/London:20220510T173000
DTEND;TZID=Europe/London:20220510T193000
DTSTAMP:20260421T124755
CREATED:20180723T091809Z
LAST-MODIFIED:20180723T091809Z
UID:7962-1652203800-1652211000@pembrokeshirehalls.org.uk
SUMMARY:Come Weigh with Me
DESCRIPTION:
URL:http://pembrokeshirehalls.org.uk/event/come-weigh-with-me-2022-05-10/
LOCATION:Burton Jubilee Hall\, Houghton\, Milford Haven\, Pembrokeshire\, SA73 1NB\, United Kingdom
END:VEVENT
BEGIN:VEVENT
DTSTART;TZID=Europe/London:20220510T133000
DTEND;TZID=Europe/London:20220510T143000
DTSTAMP:20260421T124755
CREATED:20190430T143541Z
LAST-MODIFIED:20190430T143541Z
UID:7963-1652189400-1652193000@pembrokeshirehalls.org.uk
SUMMARY:Pilates in Burton
DESCRIPTION:
URL:http://pembrokeshirehalls.org.uk/event/pilates-in-burton-2022-05-10/
LOCATION:Burton Jubilee Hall\, Houghton\, Milford Haven\, Pembrokeshire\, SA73 1NB\, United Kingdom
END:VEVENT
BEGIN:VEVENT
DTSTART;TZID=Europe/London:20220505T170000
DTEND;TZID=Europe/London:20220505T183000
DTSTAMP:20260421T124755
CREATED:20180725T133732Z
LAST-MODIFIED:20180725T133732Z
UID:7961-1651770000-1651775400@pembrokeshirehalls.org.uk
SUMMARY:Brownies
DESCRIPTION:
URL:http://pembrokeshirehalls.org.uk/event/brownies-2022-05-05/
LOCATION:Lamphey Village Hall
END:VEVENT
BEGIN:VEVENT
DTSTART;TZID=Europe/London:20220504T170000
DTEND;TZID=Europe/London:20220504T210000
DTSTAMP:20260421T124755
CREATED:20181024T194238Z
LAST-MODIFIED:20181024T194238Z
UID:7959-1651683600-1651698000@pembrokeshirehalls.org.uk
SUMMARY:Muay Thai kickboxing
DESCRIPTION:
URL:http://pembrokeshirehalls.org.uk/event/muay-thai-kickboxing-2-2022-05-04/
END:VEVENT
BEGIN:VEVENT
DTSTART;TZID=Europe/London:20220504T100000
DTEND;TZID=Europe/London:20220504T120000
DTSTAMP:20260421T124755
CREATED:20180802T085125Z
LAST-MODIFIED:20180802T085125Z
UID:7960-1651658400-1651665600@pembrokeshirehalls.org.uk
SUMMARY:Penally Craft Group
DESCRIPTION:
URL:http://pembrokeshirehalls.org.uk/event/penally-craft-group-2022-05-04/
ORGANIZER;CN="Judy Williams":MAILTO:judyandmick@btinternet.com
END:VEVENT
BEGIN:VEVENT
DTSTART;TZID=Europe/London:20220503T173000
DTEND;TZID=Europe/London:20220503T193000
DTSTAMP:20260421T124755
CREATED:20180723T091809Z
LAST-MODIFIED:20180723T091809Z
UID:7957-1651599000-1651606200@pembrokeshirehalls.org.uk
SUMMARY:Come Weigh with Me
DESCRIPTION:
URL:http://pembrokeshirehalls.org.uk/event/come-weigh-with-me-2022-05-03/
LOCATION:Burton Jubilee Hall\, Houghton\, Milford Haven\, Pembrokeshire\, SA73 1NB\, United Kingdom
END:VEVENT
BEGIN:VEVENT
DTSTART;TZID=Europe/London:20220503T133000
DTEND;TZID=Europe/London:20220503T143000
DTSTAMP:20260421T124755
CREATED:20190430T143541Z
LAST-MODIFIED:20190430T143541Z
UID:7958-1651584600-1651588200@pembrokeshirehalls.org.uk
SUMMARY:Pilates in Burton
DESCRIPTION:
URL:http://pembrokeshirehalls.org.uk/event/pilates-in-burton-2022-05-03/
LOCATION:Burton Jubilee Hall\, Houghton\, Milford Haven\, Pembrokeshire\, SA73 1NB\, United Kingdom
END:VEVENT
BEGIN:VEVENT
DTSTART;TZID=Europe/London:20220428T170000
DTEND;TZID=Europe/London:20220428T183000
DTSTAMP:20260421T124755
CREATED:20180725T133732Z
LAST-MODIFIED:20180725T133732Z
UID:7948-1651165200-1651170600@pembrokeshirehalls.org.uk
SUMMARY:Brownies
DESCRIPTION:
URL:http://pembrokeshirehalls.org.uk/event/brownies-2022-04-28/
LOCATION:Lamphey Village Hall
END:VEVENT
END:VCALENDAR