BEGIN:VCALENDAR
VERSION:2.0
PRODID:-//Pembrokeshire Community Halls - ECPv6.15.20//NONSGML v1.0//EN
CALSCALE:GREGORIAN
METHOD:PUBLISH
X-ORIGINAL-URL:http://pembrokeshirehalls.org.uk
X-WR-CALDESC:Events for Pembrokeshire Community Halls
REFRESH-INTERVAL;VALUE=DURATION:PT1H
X-Robots-Tag:noindex
X-PUBLISHED-TTL:PT1H
BEGIN:VTIMEZONE
TZID:Europe/London
BEGIN:DAYLIGHT
TZOFFSETFROM:+0000
TZOFFSETTO:+0100
TZNAME:BST
DTSTART:20210328T010000
END:DAYLIGHT
BEGIN:STANDARD
TZOFFSETFROM:+0100
TZOFFSETTO:+0000
TZNAME:GMT
DTSTART:20211031T010000
END:STANDARD
BEGIN:DAYLIGHT
TZOFFSETFROM:+0000
TZOFFSETTO:+0100
TZNAME:BST
DTSTART:20220327T010000
END:DAYLIGHT
BEGIN:STANDARD
TZOFFSETFROM:+0100
TZOFFSETTO:+0000
TZNAME:GMT
DTSTART:20221030T010000
END:STANDARD
BEGIN:DAYLIGHT
TZOFFSETFROM:+0000
TZOFFSETTO:+0100
TZNAME:BST
DTSTART:20230326T010000
END:DAYLIGHT
BEGIN:STANDARD
TZOFFSETFROM:+0100
TZOFFSETTO:+0000
TZNAME:GMT
DTSTART:20231029T010000
END:STANDARD
END:VTIMEZONE
BEGIN:VEVENT
DTSTART;TZID=Europe/London:20220511T170000
DTEND;TZID=Europe/London:20220511T210000
DTSTAMP:20260423T134849
CREATED:20181024T194238Z
LAST-MODIFIED:20181024T194238Z
UID:7964-1652288400-1652302800@pembrokeshirehalls.org.uk
SUMMARY:Muay Thai kickboxing
DESCRIPTION:
URL:http://pembrokeshirehalls.org.uk/event/muay-thai-kickboxing-2-2022-05-11/
END:VEVENT
BEGIN:VEVENT
DTSTART;TZID=Europe/London:20220511T100000
DTEND;TZID=Europe/London:20220511T120000
DTSTAMP:20260423T134849
CREATED:20180802T085125Z
LAST-MODIFIED:20180802T085125Z
UID:7965-1652263200-1652270400@pembrokeshirehalls.org.uk
SUMMARY:Penally Craft Group
DESCRIPTION:
URL:http://pembrokeshirehalls.org.uk/event/penally-craft-group-2022-05-11/
ORGANIZER;CN="Judy Williams":MAILTO:judyandmick@btinternet.com
END:VEVENT
BEGIN:VEVENT
DTSTART;TZID=Europe/London:20220510T173000
DTEND;TZID=Europe/London:20220510T193000
DTSTAMP:20260423T134849
CREATED:20180723T091809Z
LAST-MODIFIED:20180723T091809Z
UID:7962-1652203800-1652211000@pembrokeshirehalls.org.uk
SUMMARY:Come Weigh with Me
DESCRIPTION:
URL:http://pembrokeshirehalls.org.uk/event/come-weigh-with-me-2022-05-10/
LOCATION:Burton Jubilee Hall\, Houghton\, Milford Haven\, Pembrokeshire\, SA73 1NB\, United Kingdom
END:VEVENT
BEGIN:VEVENT
DTSTART;TZID=Europe/London:20220510T133000
DTEND;TZID=Europe/London:20220510T143000
DTSTAMP:20260423T134849
CREATED:20190430T143541Z
LAST-MODIFIED:20190430T143541Z
UID:7963-1652189400-1652193000@pembrokeshirehalls.org.uk
SUMMARY:Pilates in Burton
DESCRIPTION:
URL:http://pembrokeshirehalls.org.uk/event/pilates-in-burton-2022-05-10/
LOCATION:Burton Jubilee Hall\, Houghton\, Milford Haven\, Pembrokeshire\, SA73 1NB\, United Kingdom
END:VEVENT
BEGIN:VEVENT
DTSTART;TZID=Europe/London:20220505T170000
DTEND;TZID=Europe/London:20220505T183000
DTSTAMP:20260423T134849
CREATED:20180725T133732Z
LAST-MODIFIED:20180725T133732Z
UID:7961-1651770000-1651775400@pembrokeshirehalls.org.uk
SUMMARY:Brownies
DESCRIPTION:
URL:http://pembrokeshirehalls.org.uk/event/brownies-2022-05-05/
LOCATION:Lamphey Village Hall
END:VEVENT
BEGIN:VEVENT
DTSTART;TZID=Europe/London:20220504T170000
DTEND;TZID=Europe/London:20220504T210000
DTSTAMP:20260423T134849
CREATED:20181024T194238Z
LAST-MODIFIED:20181024T194238Z
UID:7959-1651683600-1651698000@pembrokeshirehalls.org.uk
SUMMARY:Muay Thai kickboxing
DESCRIPTION:
URL:http://pembrokeshirehalls.org.uk/event/muay-thai-kickboxing-2-2022-05-04/
END:VEVENT
BEGIN:VEVENT
DTSTART;TZID=Europe/London:20220504T100000
DTEND;TZID=Europe/London:20220504T120000
DTSTAMP:20260423T134849
CREATED:20180802T085125Z
LAST-MODIFIED:20180802T085125Z
UID:7960-1651658400-1651665600@pembrokeshirehalls.org.uk
SUMMARY:Penally Craft Group
DESCRIPTION:
URL:http://pembrokeshirehalls.org.uk/event/penally-craft-group-2022-05-04/
ORGANIZER;CN="Judy Williams":MAILTO:judyandmick@btinternet.com
END:VEVENT
BEGIN:VEVENT
DTSTART;TZID=Europe/London:20220503T173000
DTEND;TZID=Europe/London:20220503T193000
DTSTAMP:20260423T134849
CREATED:20180723T091809Z
LAST-MODIFIED:20180723T091809Z
UID:7957-1651599000-1651606200@pembrokeshirehalls.org.uk
SUMMARY:Come Weigh with Me
DESCRIPTION:
URL:http://pembrokeshirehalls.org.uk/event/come-weigh-with-me-2022-05-03/
LOCATION:Burton Jubilee Hall\, Houghton\, Milford Haven\, Pembrokeshire\, SA73 1NB\, United Kingdom
END:VEVENT
BEGIN:VEVENT
DTSTART;TZID=Europe/London:20220503T133000
DTEND;TZID=Europe/London:20220503T143000
DTSTAMP:20260423T134849
CREATED:20190430T143541Z
LAST-MODIFIED:20190430T143541Z
UID:7958-1651584600-1651588200@pembrokeshirehalls.org.uk
SUMMARY:Pilates in Burton
DESCRIPTION:
URL:http://pembrokeshirehalls.org.uk/event/pilates-in-burton-2022-05-03/
LOCATION:Burton Jubilee Hall\, Houghton\, Milford Haven\, Pembrokeshire\, SA73 1NB\, United Kingdom
END:VEVENT
BEGIN:VEVENT
DTSTART;TZID=Europe/London:20220428T170000
DTEND;TZID=Europe/London:20220428T183000
DTSTAMP:20260423T134849
CREATED:20180725T133732Z
LAST-MODIFIED:20180725T133732Z
UID:7948-1651165200-1651170600@pembrokeshirehalls.org.uk
SUMMARY:Brownies
DESCRIPTION:
URL:http://pembrokeshirehalls.org.uk/event/brownies-2022-04-28/
LOCATION:Lamphey Village Hall
END:VEVENT
BEGIN:VEVENT
DTSTART;TZID=Europe/London:20220427T170000
DTEND;TZID=Europe/London:20220427T210000
DTSTAMP:20260423T134849
CREATED:20181024T194238Z
LAST-MODIFIED:20181024T194238Z
UID:7946-1651078800-1651093200@pembrokeshirehalls.org.uk
SUMMARY:Muay Thai kickboxing
DESCRIPTION:
URL:http://pembrokeshirehalls.org.uk/event/muay-thai-kickboxing-2-2022-04-27/
END:VEVENT
BEGIN:VEVENT
DTSTART;TZID=Europe/London:20220427T100000
DTEND;TZID=Europe/London:20220427T120000
DTSTAMP:20260423T134849
CREATED:20180802T085125Z
LAST-MODIFIED:20180802T085125Z
UID:7947-1651053600-1651060800@pembrokeshirehalls.org.uk
SUMMARY:Penally Craft Group
DESCRIPTION:
URL:http://pembrokeshirehalls.org.uk/event/penally-craft-group-2022-04-27/
ORGANIZER;CN="Judy Williams":MAILTO:judyandmick@btinternet.com
END:VEVENT
BEGIN:VEVENT
DTSTART;TZID=Europe/London:20220426T173000
DTEND;TZID=Europe/London:20220426T193000
DTSTAMP:20260423T134849
CREATED:20180723T091809Z
LAST-MODIFIED:20180723T091809Z
UID:7915-1650994200-1651001400@pembrokeshirehalls.org.uk
SUMMARY:Come Weigh with Me
DESCRIPTION:
URL:http://pembrokeshirehalls.org.uk/event/come-weigh-with-me-2022-04-26/
LOCATION:Burton Jubilee Hall\, Houghton\, Milford Haven\, Pembrokeshire\, SA73 1NB\, United Kingdom
END:VEVENT
BEGIN:VEVENT
DTSTART;TZID=Europe/London:20220426T133000
DTEND;TZID=Europe/London:20220426T143000
DTSTAMP:20260423T134849
CREATED:20190430T143541Z
LAST-MODIFIED:20190430T143541Z
UID:7917-1650979800-1650983400@pembrokeshirehalls.org.uk
SUMMARY:Pilates in Burton
DESCRIPTION:
URL:http://pembrokeshirehalls.org.uk/event/pilates-in-burton-2022-04-26/
LOCATION:Burton Jubilee Hall\, Houghton\, Milford Haven\, Pembrokeshire\, SA73 1NB\, United Kingdom
END:VEVENT
BEGIN:VEVENT
DTSTART;TZID=Europe/London:20220421T170000
DTEND;TZID=Europe/London:20220421T183000
DTSTAMP:20260423T134849
CREATED:20180725T133732Z
LAST-MODIFIED:20180725T133732Z
UID:7897-1650560400-1650565800@pembrokeshirehalls.org.uk
SUMMARY:Brownies
DESCRIPTION:
URL:http://pembrokeshirehalls.org.uk/event/brownies-2022-04-21/
LOCATION:Lamphey Village Hall
END:VEVENT
BEGIN:VEVENT
DTSTART;TZID=Europe/London:20220420T170000
DTEND;TZID=Europe/London:20220420T210000
DTSTAMP:20260423T134849
CREATED:20181024T194238Z
LAST-MODIFIED:20181024T194238Z
UID:7895-1650474000-1650488400@pembrokeshirehalls.org.uk
SUMMARY:Muay Thai kickboxing
DESCRIPTION:
URL:http://pembrokeshirehalls.org.uk/event/muay-thai-kickboxing-2-2022-04-20/
END:VEVENT
BEGIN:VEVENT
DTSTART;TZID=Europe/London:20220420T100000
DTEND;TZID=Europe/London:20220420T120000
DTSTAMP:20260423T134849
CREATED:20180802T085125Z
LAST-MODIFIED:20180802T085125Z
UID:7896-1650448800-1650456000@pembrokeshirehalls.org.uk
SUMMARY:Penally Craft Group
DESCRIPTION:
URL:http://pembrokeshirehalls.org.uk/event/penally-craft-group-2022-04-20/
ORGANIZER;CN="Judy Williams":MAILTO:judyandmick@btinternet.com
END:VEVENT
BEGIN:VEVENT
DTSTART;TZID=Europe/London:20220419T173000
DTEND;TZID=Europe/London:20220419T193000
DTSTAMP:20260423T134849
CREATED:20180723T091809Z
LAST-MODIFIED:20180723T091809Z
UID:7853-1650389400-1650396600@pembrokeshirehalls.org.uk
SUMMARY:Come Weigh with Me
DESCRIPTION:
URL:http://pembrokeshirehalls.org.uk/event/come-weigh-with-me-2022-04-19/
LOCATION:Burton Jubilee Hall\, Houghton\, Milford Haven\, Pembrokeshire\, SA73 1NB\, United Kingdom
END:VEVENT
BEGIN:VEVENT
DTSTART;TZID=Europe/London:20220419T133000
DTEND;TZID=Europe/London:20220419T143000
DTSTAMP:20260423T134849
CREATED:20190430T143541Z
LAST-MODIFIED:20190430T143541Z
UID:7855-1650375000-1650378600@pembrokeshirehalls.org.uk
SUMMARY:Pilates in Burton
DESCRIPTION:
URL:http://pembrokeshirehalls.org.uk/event/pilates-in-burton-2022-04-19/
LOCATION:Burton Jubilee Hall\, Houghton\, Milford Haven\, Pembrokeshire\, SA73 1NB\, United Kingdom
END:VEVENT
BEGIN:VEVENT
DTSTART;TZID=Europe/London:20220414T170000
DTEND;TZID=Europe/London:20220414T183000
DTSTAMP:20260423T134849
CREATED:20180725T133732Z
LAST-MODIFIED:20180725T133732Z
UID:7850-1649955600-1649961000@pembrokeshirehalls.org.uk
SUMMARY:Brownies
DESCRIPTION:
URL:http://pembrokeshirehalls.org.uk/event/brownies-2022-04-14/
LOCATION:Lamphey Village Hall
END:VEVENT
BEGIN:VEVENT
DTSTART;TZID=Europe/London:20220413T170000
DTEND;TZID=Europe/London:20220413T210000
DTSTAMP:20260423T134849
CREATED:20181024T194238Z
LAST-MODIFIED:20181024T194238Z
UID:7848-1649869200-1649883600@pembrokeshirehalls.org.uk
SUMMARY:Muay Thai kickboxing
DESCRIPTION:
URL:http://pembrokeshirehalls.org.uk/event/muay-thai-kickboxing-2-2022-04-13/
END:VEVENT
BEGIN:VEVENT
DTSTART;TZID=Europe/London:20220413T100000
DTEND;TZID=Europe/London:20220413T120000
DTSTAMP:20260423T134849
CREATED:20180802T085125Z
LAST-MODIFIED:20180802T085125Z
UID:7849-1649844000-1649851200@pembrokeshirehalls.org.uk
SUMMARY:Penally Craft Group
DESCRIPTION:
URL:http://pembrokeshirehalls.org.uk/event/penally-craft-group-2022-04-13/
ORGANIZER;CN="Judy Williams":MAILTO:judyandmick@btinternet.com
END:VEVENT
BEGIN:VEVENT
DTSTART;TZID=Europe/London:20220412T173000
DTEND;TZID=Europe/London:20220412T193000
DTSTAMP:20260423T134849
CREATED:20180723T091809Z
LAST-MODIFIED:20180723T091809Z
UID:7845-1649784600-1649791800@pembrokeshirehalls.org.uk
SUMMARY:Come Weigh with Me
DESCRIPTION:
URL:http://pembrokeshirehalls.org.uk/event/come-weigh-with-me-2022-04-12/
LOCATION:Burton Jubilee Hall\, Houghton\, Milford Haven\, Pembrokeshire\, SA73 1NB\, United Kingdom
END:VEVENT
BEGIN:VEVENT
DTSTART;TZID=Europe/London:20220412T133000
DTEND;TZID=Europe/London:20220412T143000
DTSTAMP:20260423T134849
CREATED:20190430T143541Z
LAST-MODIFIED:20190430T143541Z
UID:7847-1649770200-1649773800@pembrokeshirehalls.org.uk
SUMMARY:Pilates in Burton
DESCRIPTION:
URL:http://pembrokeshirehalls.org.uk/event/pilates-in-burton-2022-04-12/
LOCATION:Burton Jubilee Hall\, Houghton\, Milford Haven\, Pembrokeshire\, SA73 1NB\, United Kingdom
END:VEVENT
BEGIN:VEVENT
DTSTART;TZID=Europe/London:20220407T170000
DTEND;TZID=Europe/London:20220407T183000
DTSTAMP:20260423T134849
CREATED:20180725T133732Z
LAST-MODIFIED:20180725T133732Z
UID:7842-1649350800-1649356200@pembrokeshirehalls.org.uk
SUMMARY:Brownies
DESCRIPTION:
URL:http://pembrokeshirehalls.org.uk/event/brownies-2022-04-07/
LOCATION:Lamphey Village Hall
END:VEVENT
BEGIN:VEVENT
DTSTART;TZID=Europe/London:20220406T170000
DTEND;TZID=Europe/London:20220406T210000
DTSTAMP:20260423T134849
CREATED:20181024T194238Z
LAST-MODIFIED:20181024T194238Z
UID:7840-1649264400-1649278800@pembrokeshirehalls.org.uk
SUMMARY:Muay Thai kickboxing
DESCRIPTION:
URL:http://pembrokeshirehalls.org.uk/event/muay-thai-kickboxing-2-2022-04-06/
END:VEVENT
BEGIN:VEVENT
DTSTART;TZID=Europe/London:20220406T100000
DTEND;TZID=Europe/London:20220406T120000
DTSTAMP:20260423T134849
CREATED:20180802T085125Z
LAST-MODIFIED:20180802T085125Z
UID:7841-1649239200-1649246400@pembrokeshirehalls.org.uk
SUMMARY:Penally Craft Group
DESCRIPTION:
URL:http://pembrokeshirehalls.org.uk/event/penally-craft-group-2022-04-06/
ORGANIZER;CN="Judy Williams":MAILTO:judyandmick@btinternet.com
END:VEVENT
BEGIN:VEVENT
DTSTART;TZID=Europe/London:20220405T173000
DTEND;TZID=Europe/London:20220405T193000
DTSTAMP:20260423T134849
CREATED:20180723T091809Z
LAST-MODIFIED:20180723T091809Z
UID:7836-1649179800-1649187000@pembrokeshirehalls.org.uk
SUMMARY:Come Weigh with Me
DESCRIPTION:
URL:http://pembrokeshirehalls.org.uk/event/come-weigh-with-me-2022-04-05/
LOCATION:Burton Jubilee Hall\, Houghton\, Milford Haven\, Pembrokeshire\, SA73 1NB\, United Kingdom
END:VEVENT
BEGIN:VEVENT
DTSTART;TZID=Europe/London:20220405T133000
DTEND;TZID=Europe/London:20220405T143000
DTSTAMP:20260423T134849
CREATED:20190430T143541Z
LAST-MODIFIED:20190430T143541Z
UID:7838-1649165400-1649169000@pembrokeshirehalls.org.uk
SUMMARY:Pilates in Burton
DESCRIPTION:
URL:http://pembrokeshirehalls.org.uk/event/pilates-in-burton-2022-04-05/
LOCATION:Burton Jubilee Hall\, Houghton\, Milford Haven\, Pembrokeshire\, SA73 1NB\, United Kingdom
END:VEVENT
BEGIN:VEVENT
DTSTART;TZID=Europe/London:20220331T170000
DTEND;TZID=Europe/London:20220331T183000
DTSTAMP:20260423T134849
CREATED:20180725T133732Z
LAST-MODIFIED:20180725T133732Z
UID:7833-1648746000-1648751400@pembrokeshirehalls.org.uk
SUMMARY:Brownies
DESCRIPTION:
URL:http://pembrokeshirehalls.org.uk/event/brownies-2022-03-31/
LOCATION:Lamphey Village Hall
END:VEVENT
END:VCALENDAR